BEGIN:VCALENDAR
VERSION:2.0
PRODID:-//Kim Cesaretti Art - ECPv6.15.20//NONSGML v1.0//EN
CALSCALE:GREGORIAN
METHOD:PUBLISH
X-ORIGINAL-URL:https://kimcesaretti.com
X-WR-CALDESC:Events for Kim Cesaretti Art
REFRESH-INTERVAL;VALUE=DURATION:PT1H
X-Robots-Tag:noindex
X-PUBLISHED-TTL:PT1H
BEGIN:VTIMEZONE
TZID:America/New_York
BEGIN:DAYLIGHT
TZOFFSETFROM:-0500
TZOFFSETTO:-0400
TZNAME:EDT
DTSTART:20240310T070000
END:DAYLIGHT
BEGIN:STANDARD
TZOFFSETFROM:-0400
TZOFFSETTO:-0500
TZNAME:EST
DTSTART:20241103T060000
END:STANDARD
BEGIN:DAYLIGHT
TZOFFSETFROM:-0500
TZOFFSETTO:-0400
TZNAME:EDT
DTSTART:20250309T070000
END:DAYLIGHT
BEGIN:STANDARD
TZOFFSETFROM:-0400
TZOFFSETTO:-0500
TZNAME:EST
DTSTART:20251102T060000
END:STANDARD
BEGIN:DAYLIGHT
TZOFFSETFROM:-0500
TZOFFSETTO:-0400
TZNAME:EDT
DTSTART:20260308T070000
END:DAYLIGHT
BEGIN:STANDARD
TZOFFSETFROM:-0400
TZOFFSETTO:-0500
TZNAME:EST
DTSTART:20261101T060000
END:STANDARD
END:VTIMEZONE
BEGIN:VEVENT
DTSTART;TZID=America/New_York:20250201T100000
DTEND;TZID=America/New_York:20250201T130000
DTSTAMP:20260421T180957
CREATED:20250113T092313Z
LAST-MODIFIED:20250113T050946Z
UID:5061-1738404000-1738414800@kimcesaretti.com
SUMMARY:Foundational Watercolor Tips for Gorgeous Cloudscapes
DESCRIPTION:How to use foundational watercolor painting techniques to create beautiful cloudscapes. \n\n\n\nThis class will take place at Pine Shores Art Association\, 140 East Main Street Tuckerton\, NJ 08087 United States.  Link provided will take you to Pine Shores Art Association website to register. \n\n\n\nProgram Description:Learn the basics of watercolor painting as you create your own beautiful cloudscapes! In this beginner-friendly class\, participants will discover foundational watercolor techniques while capturing the beauty\, tranquility\, and drama of a cloudy sky. By the end of the workshop\, you’ll have mastered essential skills like color\, composition\, value/form\, contrast\, washes\, blending\, lifting\, layering\, and achieving various textures to bring your clouded sky to life on paper.Objectives/Goals:* Participants will gain confidence in handling watercolor materials\, understanding color theory\, and how to use washes\, brushes\, and other tools and techniques to create soft\, fluffy clouds and dynamic skies.* Participants will leave with a completed watercolor painting showcasing their newly acquired skills\, ready to display at home or give as a heartfelt gift.* Participants will learn essential watercolor techniques such as wet-on-wet\, dry brushing\, blending\, and lifting\, enabling them to continue exploring this versatile medium beyond the classroom.What to Expect:In this 3-hour class\, you’ll start with a brief introduction to watercolor materials and basic techniques. Through guided practice\, you’ll experiment with creating cloud formations\, blending colors\, and how to create hard and soft edges. The class will include hands-on activities\, live demonstrations\, and personalized feedback from the instructor to ensure you progress confidently. By the end of the session\, you’ll have a beautiful\, atmospheric cloudscape painting to take home\, along with the knowledge and techniques to continue your watercolor journey.Sign up now and immerse yourself in the calming art of watercolor painting!
URL:https://kimcesaretti.com/event/foundational-watercolor-tips-for-gorgeous-cloudscapes/
LOCATION:NJ
ATTACH;FMTTYPE=image/jpeg:https://kimcesaretti.com/wp-content/uploads/2025/01/20241115_121323r.jpg
END:VEVENT
END:VCALENDAR