BEGIN:VCALENDAR
VERSION:2.0
PRODID:-//Kim Cesaretti Art - ECPv6.15.20//NONSGML v1.0//EN
CALSCALE:GREGORIAN
METHOD:PUBLISH
X-ORIGINAL-URL:https://kimcesaretti.com
X-WR-CALDESC:Events for Kim Cesaretti Art
REFRESH-INTERVAL;VALUE=DURATION:PT1H
X-Robots-Tag:noindex
X-PUBLISHED-TTL:PT1H
BEGIN:VTIMEZONE
TZID:America/New_York
BEGIN:DAYLIGHT
TZOFFSETFROM:-0500
TZOFFSETTO:-0400
TZNAME:EDT
DTSTART:20240310T070000
END:DAYLIGHT
BEGIN:STANDARD
TZOFFSETFROM:-0400
TZOFFSETTO:-0500
TZNAME:EST
DTSTART:20241103T060000
END:STANDARD
BEGIN:DAYLIGHT
TZOFFSETFROM:-0500
TZOFFSETTO:-0400
TZNAME:EDT
DTSTART:20250309T070000
END:DAYLIGHT
BEGIN:STANDARD
TZOFFSETFROM:-0400
TZOFFSETTO:-0500
TZNAME:EST
DTSTART:20251102T060000
END:STANDARD
BEGIN:DAYLIGHT
TZOFFSETFROM:-0500
TZOFFSETTO:-0400
TZNAME:EDT
DTSTART:20260308T070000
END:DAYLIGHT
BEGIN:STANDARD
TZOFFSETFROM:-0400
TZOFFSETTO:-0500
TZNAME:EST
DTSTART:20261101T060000
END:STANDARD
END:VTIMEZONE
BEGIN:VEVENT
DTSTART;TZID=America/New_York:20250514T100000
DTEND;TZID=America/New_York:20250514T120000
DTSTAMP:20260421T133243
CREATED:20250513T212744Z
LAST-MODIFIED:20250513T213519Z
UID:5239-1747216800-1747224000@kimcesaretti.com
SUMMARY:Open Studio w/ Kim Cesaretti
DESCRIPTION:Open Studio with Kim Cesaretti.  Bring your own art projects and materials.  Assistance provided by the instructor.  $10 fee payable to the instructor.  Contact Kim at cesarettikimberly@gmail.com or 732-814-2018 (Mobile/Text) for more information.  Class location is Fabricated for You\, 1081 NJ-37\, Toms River\, NJ 08755.  $10 price is for one session date for one artist.
URL:https://kimcesaretti.com/event/open-studio-w-kim-cesaretti/
LOCATION:NJ
CATEGORIES:Open Studio
ATTACH;FMTTYPE=image/png:https://kimcesaretti.com/wp-content/uploads/2025/05/1.png
END:VEVENT
END:VCALENDAR