BEGIN:VCALENDAR
VERSION:2.0
PRODID:-//Kim Cesaretti Art - ECPv6.15.20//NONSGML v1.0//EN
CALSCALE:GREGORIAN
METHOD:PUBLISH
X-WR-CALNAME:Kim Cesaretti Art
X-ORIGINAL-URL:https://kimcesaretti.com
X-WR-CALDESC:Events for Kim Cesaretti Art
REFRESH-INTERVAL;VALUE=DURATION:PT1H
X-Robots-Tag:noindex
X-PUBLISHED-TTL:PT1H
BEGIN:VTIMEZONE
TZID:America/New_York
BEGIN:DAYLIGHT
TZOFFSETFROM:-0500
TZOFFSETTO:-0400
TZNAME:EDT
DTSTART:20240310T070000
END:DAYLIGHT
BEGIN:STANDARD
TZOFFSETFROM:-0400
TZOFFSETTO:-0500
TZNAME:EST
DTSTART:20241103T060000
END:STANDARD
BEGIN:DAYLIGHT
TZOFFSETFROM:-0500
TZOFFSETTO:-0400
TZNAME:EDT
DTSTART:20250309T070000
END:DAYLIGHT
BEGIN:STANDARD
TZOFFSETFROM:-0400
TZOFFSETTO:-0500
TZNAME:EST
DTSTART:20251102T060000
END:STANDARD
BEGIN:DAYLIGHT
TZOFFSETFROM:-0500
TZOFFSETTO:-0400
TZNAME:EDT
DTSTART:20260308T070000
END:DAYLIGHT
BEGIN:STANDARD
TZOFFSETFROM:-0400
TZOFFSETTO:-0500
TZNAME:EST
DTSTART:20261101T060000
END:STANDARD
END:VTIMEZONE
BEGIN:VEVENT
DTSTART;TZID=America/New_York:20250813T100000
DTEND;TZID=America/New_York:20250813T140000
DTSTAMP:20260421T084956
CREATED:20250811T013535Z
LAST-MODIFIED:20250811T013603Z
UID:5285-1755079200-1755093600@kimcesaretti.com
SUMMARY:August Open Studio
DESCRIPTION:Join us for the ultimate artists play date!  $10 for 2 hours or $20 for 4 hours (drop-in fees).  Bring your own projects and supplies \n\n\n\nContact Kim to reserve your spot!  Payment cash or Venmo day of attendance.  Thanks! \n\n\n\n\n\n\n\n\n\n\n\n\n\n\n\n()
URL:https://kimcesaretti.com/event/august-open-studio/
LOCATION:Fabricated for You\, 1081 Rt. 37\, Toms River\, New Jersey\, 08755\, United States
ATTACH;FMTTYPE=image/png:https://kimcesaretti.com/wp-content/uploads/2025/08/1.png
ORGANIZER;CN="Kim Cesaretti":MAILTO:cesarettikimberly@gmail.com
END:VEVENT
END:VCALENDAR