BEGIN:VCALENDAR
VERSION:2.0
PRODID:-//Kim Cesaretti Art - ECPv6.15.20//NONSGML v1.0//EN
CALSCALE:GREGORIAN
METHOD:PUBLISH
X-ORIGINAL-URL:https://kimcesaretti.com
X-WR-CALDESC:Events for Kim Cesaretti Art
REFRESH-INTERVAL;VALUE=DURATION:PT1H
X-Robots-Tag:noindex
X-PUBLISHED-TTL:PT1H
BEGIN:VTIMEZONE
TZID:America/New_York
BEGIN:DAYLIGHT
TZOFFSETFROM:-0500
TZOFFSETTO:-0400
TZNAME:EDT
DTSTART:20240310T070000
END:DAYLIGHT
BEGIN:STANDARD
TZOFFSETFROM:-0400
TZOFFSETTO:-0500
TZNAME:EST
DTSTART:20241103T060000
END:STANDARD
BEGIN:DAYLIGHT
TZOFFSETFROM:-0500
TZOFFSETTO:-0400
TZNAME:EDT
DTSTART:20250309T070000
END:DAYLIGHT
BEGIN:STANDARD
TZOFFSETFROM:-0400
TZOFFSETTO:-0500
TZNAME:EST
DTSTART:20251102T060000
END:STANDARD
BEGIN:DAYLIGHT
TZOFFSETFROM:-0500
TZOFFSETTO:-0400
TZNAME:EDT
DTSTART:20260308T070000
END:DAYLIGHT
BEGIN:STANDARD
TZOFFSETFROM:-0400
TZOFFSETTO:-0500
TZNAME:EST
DTSTART:20261101T060000
END:STANDARD
END:VTIMEZONE
BEGIN:VEVENT
DTSTART;TZID=America/New_York:20250822T170000
DTEND;TZID=America/New_York:20250822T190000
DTSTAMP:20260421T075456
CREATED:20250811T193303Z
LAST-MODIFIED:20250811T200313Z
UID:5305-1755882000-1755889200@kimcesaretti.com
SUMMARY:August FREE Monthly Art Chat at OCAG
DESCRIPTION:Please join us at OCAG for a fun\, social\, and friendly gathering of wonderful artists! All mediums and levels welcome! Bring a completed work or a work in progress to share with the group. Light refreshments served. There is a remote option to join the group if you are not able to join us in person. Just contact Kim for the Zoom link. RSVP below.  Held on the 4th Fridays of every month.
URL:https://kimcesaretti.com/event/august-free-monthly-art-chat-at-ocag/
LOCATION:Ocean County Artists’ Guild (OCAG)\, 22 Chestnut Ave\, Island Heights\, NJ\, 08732\, United States
CATEGORIES:Art Chat
ATTACH;FMTTYPE=image/png:https://kimcesaretti.com/wp-content/uploads/2025/08/Aug-Art-Chat-IG-1.png
ORGANIZER;CN="Kim Cesaretti":MAILTO:cesarettikimberly@gmail.com
END:VEVENT
END:VCALENDAR