BEGIN:VCALENDAR
VERSION:2.0
PRODID:-//Kim Cesaretti Art - ECPv6.15.20//NONSGML v1.0//EN
CALSCALE:GREGORIAN
METHOD:PUBLISH
X-ORIGINAL-URL:https://kimcesaretti.com
X-WR-CALDESC:Events for Kim Cesaretti Art
REFRESH-INTERVAL;VALUE=DURATION:PT1H
X-Robots-Tag:noindex
X-PUBLISHED-TTL:PT1H
BEGIN:VTIMEZONE
TZID:America/New_York
BEGIN:DAYLIGHT
TZOFFSETFROM:-0500
TZOFFSETTO:-0400
TZNAME:EDT
DTSTART:20240310T070000
END:DAYLIGHT
BEGIN:STANDARD
TZOFFSETFROM:-0400
TZOFFSETTO:-0500
TZNAME:EST
DTSTART:20241103T060000
END:STANDARD
BEGIN:DAYLIGHT
TZOFFSETFROM:-0500
TZOFFSETTO:-0400
TZNAME:EDT
DTSTART:20250309T070000
END:DAYLIGHT
BEGIN:STANDARD
TZOFFSETFROM:-0400
TZOFFSETTO:-0500
TZNAME:EST
DTSTART:20251102T060000
END:STANDARD
BEGIN:DAYLIGHT
TZOFFSETFROM:-0500
TZOFFSETTO:-0400
TZNAME:EDT
DTSTART:20260308T070000
END:DAYLIGHT
BEGIN:STANDARD
TZOFFSETFROM:-0400
TZOFFSETTO:-0500
TZNAME:EST
DTSTART:20261101T060000
END:STANDARD
END:VTIMEZONE
BEGIN:VEVENT
DTSTART;TZID=America/New_York:20251106T183000
DTEND;TZID=America/New_York:20251106T210000
DTSTAMP:20260421T044618
CREATED:20251103T173301Z
LAST-MODIFIED:20251112T023849Z
UID:5377-1762453800-1762462800@kimcesaretti.com
SUMMARY:Arts Community of Lacey\, NJ (ACLNJ) Monthly Artists Meet & Greet
DESCRIPTION:A gathering of local artists coordinated and facilitated by Kim Cesaretti for ACLNJ!  First Thursdays of the month at IHOP in Forked River.  Food and beverages available for purchase.  Bring a piece of your art to share with the group! \n\n\n\nA chance to mix and mingle with other artists and creatives!  Recharge your network!  Discuss/share resources and opportunities for local artists.
URL:https://kimcesaretti.com/event/art-community-of-lacey-nj-aclnj-monthly-artists-meet-greet/
LOCATION:IHOP Forked River\, 113 South Main Street\, Forked River\, New Jersey\, 08731\, United States
CATEGORIES:ACLNJ,Art Chat
ATTACH;FMTTYPE=image/png:https://kimcesaretti.com/wp-content/uploads/2025/11/1.png
END:VEVENT
END:VCALENDAR