BEGIN:VCALENDAR
VERSION:2.0
PRODID:-//Kim Cesaretti Art - ECPv6.15.20//NONSGML v1.0//EN
CALSCALE:GREGORIAN
METHOD:PUBLISH
X-WR-CALNAME:Kim Cesaretti Art
X-ORIGINAL-URL:https://kimcesaretti.com
X-WR-CALDESC:Events for Kim Cesaretti Art
REFRESH-INTERVAL;VALUE=DURATION:PT1H
X-Robots-Tag:noindex
X-PUBLISHED-TTL:PT1H
BEGIN:VTIMEZONE
TZID:UTC
BEGIN:STANDARD
TZOFFSETFROM:+0000
TZOFFSETTO:+0000
TZNAME:UTC
DTSTART:20210101T000000
END:STANDARD
END:VTIMEZONE
BEGIN:VEVENT
DTSTART;TZID=UTC:20220507T140000
DTEND;TZID=UTC:20220507T160000
DTSTAMP:20260421T194200
CREATED:20220410T092010Z
LAST-MODIFIED:20220410T092028Z
UID:4363-1651932000-1651939200@kimcesaretti.com
SUMMARY:Solo Art Show Reception
DESCRIPTION:Homecoming solo art show reception for Kim Cesaretti at the Lacey Branch of the Ocean County Library
URL:https://kimcesaretti.com/event/solo-art-show-reception/
LOCATION:NJ
CATEGORIES:Art Shows,Art Shows
ATTACH;FMTTYPE=image/jpeg:https://kimcesaretti.com/wp-content/uploads/2021/10/kac_lemons_768.jpg
END:VEVENT
END:VCALENDAR