BEGIN:VCALENDAR
VERSION:2.0
PRODID:-//Kim Cesaretti Art - ECPv6.15.20//NONSGML v1.0//EN
CALSCALE:GREGORIAN
METHOD:PUBLISH
X-WR-CALNAME:Kim Cesaretti Art
X-ORIGINAL-URL:https://kimcesaretti.com
X-WR-CALDESC:Events for Kim Cesaretti Art
REFRESH-INTERVAL;VALUE=DURATION:PT1H
X-Robots-Tag:noindex
X-PUBLISHED-TTL:PT1H
BEGIN:VTIMEZONE
TZID:America/New_York
BEGIN:DAYLIGHT
TZOFFSETFROM:-0500
TZOFFSETTO:-0400
TZNAME:EDT
DTSTART:20240310T070000
END:DAYLIGHT
BEGIN:STANDARD
TZOFFSETFROM:-0400
TZOFFSETTO:-0500
TZNAME:EST
DTSTART:20241103T060000
END:STANDARD
BEGIN:DAYLIGHT
TZOFFSETFROM:-0500
TZOFFSETTO:-0400
TZNAME:EDT
DTSTART:20250309T070000
END:DAYLIGHT
BEGIN:STANDARD
TZOFFSETFROM:-0400
TZOFFSETTO:-0500
TZNAME:EST
DTSTART:20251102T060000
END:STANDARD
BEGIN:DAYLIGHT
TZOFFSETFROM:-0500
TZOFFSETTO:-0400
TZNAME:EDT
DTSTART:20260308T070000
END:DAYLIGHT
BEGIN:STANDARD
TZOFFSETFROM:-0400
TZOFFSETTO:-0500
TZNAME:EST
DTSTART:20261101T060000
END:STANDARD
END:VTIMEZONE
BEGIN:VEVENT
DTSTART;TZID=America/New_York:20250509T130000
DTEND;TZID=America/New_York:20250509T143000
DTSTAMP:20260421T115945
CREATED:20250507T003443Z
LAST-MODIFIED:20250508T023435Z
UID:5119-1746795600-1746801000@kimcesaretti.com
SUMMARY:OCAG Art Book Club
DESCRIPTION:Hello everyone!  This is your friendly reminder that our next OCAG Art Book Club meeting is on Friday\, May 9th at 1pm.  We will be discussing The Glass Maker by Tracy Chevalier.  I’m looking forward to our lively discussion and being able to get together with all of you!  I enjoy your company!  This group has always been a beacon of positivity for me!  I hope you all can make it!  If you can’t join in person\, you are welcome to join us virtually through Zoom.  Email Kim at cesarettikimberly@gmail.com for the Zoom link.
URL:https://kimcesaretti.com/event/ocag-art-book-club/
LOCATION:NJ
CATEGORIES:Art Book Club
ATTACH;FMTTYPE=image/png:https://kimcesaretti.com/wp-content/uploads/2025/05/The-Glass-Maker-by-Tracy-Chevalier.png
END:VEVENT
BEGIN:VEVENT
DTSTART;TZID=America/New_York:20250514T100000
DTEND;TZID=America/New_York:20250514T120000
DTSTAMP:20260421T115945
CREATED:20250513T212744Z
LAST-MODIFIED:20250513T213519Z
UID:5239-1747216800-1747224000@kimcesaretti.com
SUMMARY:Open Studio w/ Kim Cesaretti
DESCRIPTION:Open Studio with Kim Cesaretti.  Bring your own art projects and materials.  Assistance provided by the instructor.  $10 fee payable to the instructor.  Contact Kim at cesarettikimberly@gmail.com or 732-814-2018 (Mobile/Text) for more information.  Class location is Fabricated for You\, 1081 NJ-37\, Toms River\, NJ 08755.  $10 price is for one session date for one artist.
URL:https://kimcesaretti.com/event/open-studio-w-kim-cesaretti/
LOCATION:NJ
CATEGORIES:Open Studio
ATTACH;FMTTYPE=image/png:https://kimcesaretti.com/wp-content/uploads/2025/05/1.png
END:VEVENT
BEGIN:VEVENT
DTSTART;TZID=America/New_York:20250517T100000
DTEND;TZID=America/New_York:20250517T130000
DTSTAMP:20260421T115945
CREATED:20250507T010016Z
LAST-MODIFIED:20250507T012500Z
UID:5125-1747476000-1747486800@kimcesaretti.com
SUMMARY:Beginner Watercolor - Creating Bodies of Water
DESCRIPTION:Learn the basics of watercolor painting by mastering the art of depicting bodies of water! In this beginner-friendly class\, participants will explore the techniques needed to capture the fluidity and movement of water in their paintings. By the end of the workshop\, you’ll have gained the skills to create realistic and captivating water scenes.  This class is hosted by Pine Shores Art Association and will take place at their Tuckerton location.  The link provided below will take you to PSAA’s class registration page.
URL:https://kimcesaretti.com/event/beginner-watercolor-creating-bodies-of-water/
LOCATION:PSAA Tuckerton\, 140 East Main Street\, Tuckerton\, NJ\, 08087\, United States
ATTACH;FMTTYPE=image/jpeg:https://kimcesaretti.com/wp-content/uploads/2025/05/20241113_174436.jpg
END:VEVENT
BEGIN:VEVENT
DTSTART;TZID=America/New_York:20250522T180000
DTEND;TZID=America/New_York:20250522T193000
DTSTAMP:20260421T115945
CREATED:20250507T020252Z
LAST-MODIFIED:20250513T211750Z
UID:5139-1747936800-1747942200@kimcesaretti.com
SUMMARY:Meeting - Arts Community of Lacey\, NJ (ACLNJ)
DESCRIPTION:Thanks to all who attended our Open House last Thursday night and to everyone who helped spread the word! We had a fantastic turnout! \n\n\n\nJust a reminder that our next meeting is scheduled for May 22nd at 6:00 PM at the Lacey Recreation Department. \n\n\n\nThank you again for your continued support.  For more information and to get on the email list for ACLNJ events and updates\, please contact Maggie Jones\, Event Coordinator\, Lacey Township Recreation Department\, mjones@laceytownship.org\,  818 W Lacey Rd\, Forked River\, NJ 08731\, 609-693-1100 ext 2203
URL:https://kimcesaretti.com/event/meeting-arts-community-of-lacey-nj-aclnj/
LOCATION:Lacey Township Recreation Department\, 818 W Lacey Road\, Forked River\, New Jersey\, 08731\, United States
ATTACH;FMTTYPE=image/png:https://kimcesaretti.com/wp-content/uploads/2025/05/aclnj2.png
END:VEVENT
END:VCALENDAR