BEGIN:VCALENDAR
VERSION:2.0
PRODID:-//Kim Cesaretti Art - ECPv6.15.20//NONSGML v1.0//EN
CALSCALE:GREGORIAN
METHOD:PUBLISH
X-ORIGINAL-URL:https://kimcesaretti.com
X-WR-CALDESC:Events for Kim Cesaretti Art
REFRESH-INTERVAL;VALUE=DURATION:PT1H
X-Robots-Tag:noindex
X-PUBLISHED-TTL:PT1H
BEGIN:VTIMEZONE
TZID:America/New_York
BEGIN:DAYLIGHT
TZOFFSETFROM:-0500
TZOFFSETTO:-0400
TZNAME:EDT
DTSTART:20240310T070000
END:DAYLIGHT
BEGIN:STANDARD
TZOFFSETFROM:-0400
TZOFFSETTO:-0500
TZNAME:EST
DTSTART:20241103T060000
END:STANDARD
BEGIN:DAYLIGHT
TZOFFSETFROM:-0500
TZOFFSETTO:-0400
TZNAME:EDT
DTSTART:20250309T070000
END:DAYLIGHT
BEGIN:STANDARD
TZOFFSETFROM:-0400
TZOFFSETTO:-0500
TZNAME:EST
DTSTART:20251102T060000
END:STANDARD
BEGIN:DAYLIGHT
TZOFFSETFROM:-0500
TZOFFSETTO:-0400
TZNAME:EDT
DTSTART:20260308T070000
END:DAYLIGHT
BEGIN:STANDARD
TZOFFSETFROM:-0400
TZOFFSETTO:-0500
TZNAME:EST
DTSTART:20261101T060000
END:STANDARD
END:VTIMEZONE
BEGIN:VEVENT
DTSTART;TZID=America/New_York:20251008T100000
DTEND;TZID=America/New_York:20251008T140000
DTSTAMP:20260419T143842
CREATED:20251006T162152Z
LAST-MODIFIED:20251006T162219Z
UID:5354-1759917600-1759932000@kimcesaretti.com
SUMMARY:Open Studio with Kim
DESCRIPTION:Fine Art Open Studio with Kim Cesaretti. \n\n\n\n$10 for 2 hrs or $20 for 4 hrs (drop-in fee) \n\n\n\nBring your own projects and supplies.  Assistance and guidance from the instructor is available while you work alongside your fellow artists! \n\n\n\nSpace is limited\, so please RSVP to reserve your spot!
URL:https://kimcesaretti.com/event/open-studio-with-kim/
LOCATION:Fabricated for You\, 1081 Rt. 37\, Toms River\, New Jersey\, 08755\, United States
ATTACH;FMTTYPE=image/png:https://kimcesaretti.com/wp-content/uploads/2025/10/General-Open-Studio-with-Kim-Cesaretti.png
ORGANIZER;CN="Kim Cesaretti":MAILTO:cesarettikimberly@gmail.com
END:VEVENT
BEGIN:VEVENT
DTSTART;TZID=America/New_York:20251010T130000
DTEND;TZID=America/New_York:20251010T150000
DTSTAMP:20260419T143842
CREATED:20250914T233502Z
LAST-MODIFIED:20250914T233518Z
UID:5319-1760101200-1760108400@kimcesaretti.com
SUMMARY:October 2025 OCAG Art Book Club Meeting
DESCRIPTION:Hello everyone!  Our next OCAG Art Book Club meeting is on Friday\, October 10th at 1pm.  We will be discussing the second half of  The Grand Affair: John Singer Sargent in His World by Paul Fisher.  I’m looking forward to our lively discussion and being able to get together with all of you!  Light refreshments served. I enjoy your company!  This group has always been a beacon of positivity for me!  I hope you all can make it! If you can’t join in person\, you are welcome to join us virtually through Zoom. Email Kim at cesarettikimberly@gmail.com for the Zoom link.
URL:https://kimcesaretti.com/event/october-2025-ocag-art-book-club-meeting/
LOCATION:Ocean County Artists’ Guild (OCAG)\, 22 Chestnut Ave\, Island Heights\, NJ\, 08732\, United States
CATEGORIES:Art Book Club
ATTACH;FMTTYPE=image/jpeg:https://kimcesaretti.com/wp-content/uploads/2025/08/81GGxrvrTCL._SL1500_.jpg
ORGANIZER;CN="Kim Cesaretti":MAILTO:cesarettikimberly@gmail.com
END:VEVENT
END:VCALENDAR